BEGIN:VCALENDAR
VERSION:2.0
PRODID:-//The Katelyn Morales Foundation - ECPv6.15.20//NONSGML v1.0//EN
CALSCALE:GREGORIAN
METHOD:PUBLISH
X-WR-CALNAME:The Katelyn Morales Foundation
X-ORIGINAL-URL:https://thekatelynmoralesfoundation.org
X-WR-CALDESC:Events for The Katelyn Morales Foundation
REFRESH-INTERVAL;VALUE=DURATION:PT1H
X-Robots-Tag:noindex
X-PUBLISHED-TTL:PT1H
BEGIN:VTIMEZONE
TZID:UTC
BEGIN:STANDARD
TZOFFSETFROM:+0000
TZOFFSETTO:+0000
TZNAME:UTC
DTSTART:20240101T000000
END:STANDARD
END:VTIMEZONE
BEGIN:VEVENT
DTSTART;TZID=UTC:20260110T180000
DTEND;TZID=UTC:20260110T220000
DTSTAMP:20260424T185536
CREATED:20251208T182544Z
LAST-MODIFIED:20251211T164236Z
UID:15165-1768068000-1768082400@thekatelynmoralesfoundation.org
SUMMARY:2026 Dance-A-Thon at IPlay America
DESCRIPTION:COME OUT ON SATURDAY JANUARY 10TH\, 2026 FOR OUR ANNUAL \n\nFUNDRAISING DANCE at – iPLAY AMERICA IN FREEHOLD NJ\n \n6PM – 10PM SPREAD THE WORD!!!!!!\n \n\n\n\n\n\n\nTHANK YOU!!! \nTHE KATELYN MORALES FOUNDATION
URL:https://thekatelynmoralesfoundation.org/event/2026-dance-a-thon-at-iplay-america/
LOCATION:iPlay America\, 110 Schanck Rd\, Freehold\, NJ\, 07728\, United States
ATTACH;FMTTYPE=image/jpeg:https://thekatelynmoralesfoundation.org/wp-content/uploads/2024/11/JPEG-image.jpeg
END:VEVENT
BEGIN:VEVENT
DTSTART;VALUE=DATE:20250925
DTEND;VALUE=DATE:20250926
DTSTAMP:20260424T185536
CREATED:20250924T174554Z
LAST-MODIFIED:20250924T174619Z
UID:15153-1758758400-1758844799@thekatelynmoralesfoundation.org
SUMMARY:Playing For A Cause
DESCRIPTION:
URL:https://thekatelynmoralesfoundation.org/event/playing-for-a-cause/
LOCATION:NJ
ATTACH;FMTTYPE=image/jpeg:https://thekatelynmoralesfoundation.org/wp-content/uploads/2025/09/IMG_1308.jpeg
END:VEVENT
END:VCALENDAR